BEGIN:VCALENDAR
VERSION:2.0
PRODID:icalendar-ruby
CALSCALE:GREGORIAN
METHOD:PUBLISH
BEGIN:VEVENT
DTSTAMP:20260422T084028Z
UID:0d1652ff-29fa-49a7-89a3-fd39fc8b5e4f
DTSTART;VALUE=DATE:20210713
DTEND;VALUE=DATE:20210713
DESCRIPTION:Circle City BMX
LOCATION:Westgate Park    100 Recreation Rd Dothan AL 36305 USA
SUMMARY:Practice
URL:/site/bmx_races/457321
END:VEVENT
END:VCALENDAR
