BEGIN:VCALENDAR
VERSION:2.0
PRODID:icalendar-ruby
CALSCALE:GREGORIAN
METHOD:PUBLISH
BEGIN:VEVENT
DTSTAMP:20260422T070733Z
UID:81a467f9-a42d-4a3c-a75c-3278663e47dc
DTSTART;VALUE=DATE:20210803
DTEND;VALUE=DATE:20210803
DESCRIPTION:Circle City BMX
LOCATION:Westgate Park    100 Recreation Rd Dothan AL 36305 USA
SUMMARY:Practice
URL:/site/bmx_races/457330
END:VEVENT
END:VCALENDAR
