BEGIN:VCALENDAR
VERSION:2.0
PRODID:icalendar-ruby
CALSCALE:GREGORIAN
METHOD:PUBLISH
BEGIN:VEVENT
DTSTAMP:20260419T190437Z
UID:f99835b7-a2ab-4e50-8631-276c4068d41e
DTSTART;VALUE=DATE:20210826
DTEND;VALUE=DATE:20210826
DESCRIPTION:Circle City BMX
LOCATION:Westgate Park    100 Recreation Rd Dothan AL 36305 USA
SUMMARY:Local Race Single
URL:/site/bmx_races/457340
END:VEVENT
END:VCALENDAR
