BEGIN:VCALENDAR
VERSION:2.0
PRODID:icalendar-ruby
CALSCALE:GREGORIAN
METHOD:PUBLISH
BEGIN:VEVENT
DTSTAMP:20260421T232359Z
UID:287d038a-f9c8-40ad-8902-404389330079
DTSTART;VALUE=DATE:20130724
DTEND;VALUE=DATE:20130724
DESCRIPTION:Colorado River BMX
LOCATION:2230 Highland Dr  Bullhead City AZ 86442 USA
SUMMARY:Local Race Single
URL:/site/bmx_races/45763
END:VEVENT
END:VCALENDAR
