BEGIN:VCALENDAR
VERSION:2.0
PRODID:icalendar-ruby
CALSCALE:GREGORIAN
METHOD:PUBLISH
BEGIN:VEVENT
DTSTAMP:20260421T201905Z
UID:f0e4bacd-4974-43cf-abfd-8fb37bcad3d2
DTSTART;VALUE=DATE:20130913
DTEND;VALUE=DATE:20130913
DESCRIPTION:Colorado River BMX
LOCATION:2230 Highland Dr  Bullhead City AZ 86442 USA
SUMMARY:Local Race Single
URL:/site/bmx_races/45778
END:VEVENT
END:VCALENDAR
