BEGIN:VCALENDAR
VERSION:2.0
PRODID:icalendar-ruby
CALSCALE:GREGORIAN
METHOD:PUBLISH
BEGIN:VEVENT
DTSTAMP:20260421T184342Z
UID:3d0c8351-888e-407c-9b33-aafca97f5580
DTSTART;VALUE=DATE:20131009
DTEND;VALUE=DATE:20131009
DESCRIPTION:Colorado River BMX
LOCATION:2230 Highland Dr  Bullhead City AZ 86442 USA
SUMMARY:Local Race Single
URL:/site/bmx_races/45785
END:VEVENT
END:VCALENDAR
