BEGIN:VCALENDAR
VERSION:2.0
PRODID:icalendar-ruby
CALSCALE:GREGORIAN
METHOD:PUBLISH
BEGIN:VEVENT
DTSTAMP:20260423T215514Z
UID:870a9546-0d0e-43ac-9e72-c949881dbf98
DTSTART;VALUE=DATE:20210610
DTEND;VALUE=DATE:20210610
DESCRIPTION:Kamloops BMX
LOCATION:200  1550 Ord Rd   Kamloops BC V2B1N3 CAN
SUMMARY:Local Race Single
URL:/site/bmx_races/457861
END:VEVENT
END:VCALENDAR
