BEGIN:VCALENDAR
VERSION:2.0
PRODID:icalendar-ruby
CALSCALE:GREGORIAN
METHOD:PUBLISH
BEGIN:VEVENT
DTSTAMP:20260419T163450Z
UID:8a624600-ed6a-4c18-bb36-e01e3364e8c1
DTSTART;VALUE=DATE:20211029
DTEND;VALUE=DATE:20211029
DESCRIPTION:St. Cloud BMX
LOCATION:2401 Peghorn Way  St. Cloud FL 34769 USA
SUMMARY:Local Race Single
URL:/site/bmx_races/457980
END:VEVENT
END:VCALENDAR
