BEGIN:VCALENDAR
VERSION:2.0
PRODID:icalendar-ruby
CALSCALE:GREGORIAN
METHOD:PUBLISH
BEGIN:VEVENT
DTSTAMP:20260425T172558Z
UID:f88d95d1-f52f-4c22-b372-ce3ca01bc936
DTSTART;VALUE=DATE:20200801
DTEND;VALUE=DATE:20200801
DESCRIPTION:Coal Hills BMX
LOCATION:2815 Dunsmuir Ave  Cumberland BC V0R1S0 CAN
SUMMARY:Standard Single Single
URL:/site/bmx_races/457993
END:VEVENT
END:VCALENDAR
