BEGIN:VCALENDAR
VERSION:2.0
PRODID:icalendar-ruby
CALSCALE:GREGORIAN
METHOD:PUBLISH
BEGIN:VEVENT
DTSTAMP:20260426T000321Z
UID:24a29761-fcaa-4f0c-b09f-fa70d445a66a
DTSTART;VALUE=DATE:20211008
DTEND;VALUE=DATE:20211008
DESCRIPTION:Springfield BMX Raceway
LOCATION:4115 Sandhill Road  Springfield IL 62702 USA
SUMMARY:Local Race Single
URL:/site/bmx_races/458460
END:VEVENT
END:VCALENDAR
