BEGIN:VCALENDAR
VERSION:2.0
PRODID:icalendar-ruby
CALSCALE:GREGORIAN
METHOD:PUBLISH
BEGIN:VEVENT
DTSTAMP:20260423T040809Z
UID:1bfc8a12-c016-4bdd-9357-3762f673e62b
DTSTART;VALUE=DATE:20211005
DTEND;VALUE=DATE:20211005
DESCRIPTION:Shelby Farms BMX
LOCATION:6435 Walnut Grove Rd  Memphis TN 38119 USA
SUMMARY:Local Race Single
URL:/site/bmx_races/458633
END:VEVENT
END:VCALENDAR
