BEGIN:VCALENDAR
VERSION:2.0
PRODID:icalendar-ruby
CALSCALE:GREGORIAN
METHOD:PUBLISH
BEGIN:VEVENT
DTSTAMP:20260423T053147Z
UID:5760ca99-9985-4624-80c5-d2069e5c3e19
DTSTART;VALUE=DATE:20210925
DTEND;VALUE=DATE:20210925
DESCRIPTION:Marysville BMX
LOCATION:618 N Main St  Marysville OH 43040 USA
SUMMARY:Local Race Single
URL:/site/bmx_races/458667
END:VEVENT
END:VCALENDAR
