BEGIN:VCALENDAR
VERSION:2.0
PRODID:icalendar-ruby
CALSCALE:GREGORIAN
METHOD:PUBLISH
BEGIN:VEVENT
DTSTAMP:20260424T044300Z
UID:29f2d58a-e4a0-4567-9bad-60e96e3eb179
DTSTART;VALUE=DATE:20210923
DTEND;VALUE=DATE:20210923
DESCRIPTION:Spokes BMX
LOCATION: 2550 W Bennett  Springfield MO 65807 USA
SUMMARY:Local Race Single
URL:/site/bmx_races/458860
END:VEVENT
END:VCALENDAR
