BEGIN:VCALENDAR
VERSION:2.0
PRODID:icalendar-ruby
CALSCALE:GREGORIAN
METHOD:PUBLISH
BEGIN:VEVENT
DTSTAMP:20260423T234458Z
UID:a2a6b6ad-a61d-494a-8e9e-43f227fe4b72
DTSTART;VALUE=DATE:20210109
DTEND;VALUE=DATE:20210109
DESCRIPTION:Rock Island Indoor BMX
LOCATION:2621 4th Ave  Rock Island IL 61201 USA
SUMMARY:Local Race Single
URL:/site/bmx_races/458870
END:VEVENT
END:VCALENDAR
