BEGIN:VCALENDAR
VERSION:2.0
PRODID:icalendar-ruby
CALSCALE:GREGORIAN
METHOD:PUBLISH
BEGIN:VEVENT
DTSTAMP:20260422T212455Z
UID:81f46b1f-66d0-4d12-a95a-688485d21b80
DTSTART;VALUE=DATE:20210216
DTEND;VALUE=DATE:20210216
DESCRIPTION:Fountain City BMX
LOCATION:David D. Whetstone Jr. Sports Complex     County Road 4 W Prattvil
 le AL 36066 USA
SUMMARY:Practice
URL:/site/bmx_races/459908
END:VEVENT
END:VCALENDAR
