BEGIN:VCALENDAR
VERSION:2.0
PRODID:icalendar-ruby
CALSCALE:GREGORIAN
METHOD:PUBLISH
BEGIN:VEVENT
DTSTAMP:20260422T164927Z
UID:e79c31a1-d4b2-47bd-82cc-bf5632ad76a4
DTSTART;VALUE=DATE:20210528
DTEND;VALUE=DATE:20210528
DESCRIPTION:Fountain City BMX
LOCATION:David D. Whetstone Jr. Sports Complex     County Road 4 W Prattvil
 le AL 36066 USA
SUMMARY:Practice
URL:/site/bmx_races/459943
END:VEVENT
END:VCALENDAR
