BEGIN:VCALENDAR
VERSION:2.0
PRODID:icalendar-ruby
CALSCALE:GREGORIAN
METHOD:PUBLISH
BEGIN:VEVENT
DTSTAMP:20260422T102617Z
UID:c4fd87d6-ec06-473a-beaa-f9b85a1a6079
DTSTART;VALUE=DATE:20210928
DTEND;VALUE=DATE:20210928
DESCRIPTION:Fountain City BMX
LOCATION:David D. Whetstone Jr. Sports Complex     County Road 4 W Prattvil
 le AL 36066 USA
SUMMARY:Practice
URL:/site/bmx_races/459978
END:VEVENT
END:VCALENDAR
