BEGIN:VCALENDAR
VERSION:2.0
PRODID:icalendar-ruby
CALSCALE:GREGORIAN
METHOD:PUBLISH
BEGIN:VEVENT
DTSTAMP:20260422T090142Z
UID:8dc71526-26fb-456a-b1d0-0d449f7a49ad
DTSTART;VALUE=DATE:20211026
DTEND;VALUE=DATE:20211026
DESCRIPTION:Fountain City BMX
LOCATION:David D. Whetstone Jr. Sports Complex     County Road 4 W Prattvil
 le AL 36066 USA
SUMMARY:Practice
URL:/site/bmx_races/459986
END:VEVENT
END:VCALENDAR
