BEGIN:VCALENDAR
VERSION:2.0
PRODID:icalendar-ruby
CALSCALE:GREGORIAN
METHOD:PUBLISH
BEGIN:VEVENT
DTSTAMP:20260425T000814Z
UID:c045c8e4-a571-4ee0-be9e-b99747f59674
DTSTART;VALUE=DATE:20210926
DTEND;VALUE=DATE:20210926
DESCRIPTION:Lakes Area BMX
LOCATION:10415 Town Hall Street  Brainerd MN 56401 USA
SUMMARY:Local Race Single
URL:/site/bmx_races/460087
END:VEVENT
END:VCALENDAR
