BEGIN:VCALENDAR
VERSION:2.0
PRODID:icalendar-ruby
CALSCALE:GREGORIAN
METHOD:PUBLISH
BEGIN:VEVENT
DTSTAMP:20260421T024300Z
UID:24f42bff-316b-45dc-842a-d3912f9aa112
DTSTART;VALUE=DATE:20210427
DTEND;VALUE=DATE:20210427
DESCRIPTION:Cargill Park BMX
LOCATION:2800 Cargill Drive  Shreveport LA 71108 USA
SUMMARY:Local Race Single
URL:/site/bmx_races/460243
END:VEVENT
END:VCALENDAR
