BEGIN:VCALENDAR
VERSION:2.0
PRODID:icalendar-ruby
CALSCALE:GREGORIAN
METHOD:PUBLISH
BEGIN:VEVENT
DTSTAMP:20260419T155523Z
UID:ca2ff9d9-2936-4404-9da7-79d4849a0db5
DTSTART;VALUE=DATE:20210312
DTEND;VALUE=DATE:20210312
DESCRIPTION:Charlotte BMX
LOCATION:2505 Carmalita St  Punta Gorda FL 33950 USA
SUMMARY:Local Race Single
URL:/site/bmx_races/461462
END:VEVENT
END:VCALENDAR
