BEGIN:VCALENDAR
VERSION:2.0
PRODID:icalendar-ruby
CALSCALE:GREGORIAN
METHOD:PUBLISH
BEGIN:VEVENT
DTSTAMP:20260424T044319Z
UID:8aa7c7ef-1962-452c-8b96-f3a2ce4957b6
DTSTART;VALUE=DATE:20210508
DTEND;VALUE=DATE:20210508
DESCRIPTION:VMP BMX
LOCATION:8018 Boydton Plank Road  N Dinwiddie VA 23803 USA
SUMMARY:Local Race Single
URL:/site/bmx_races/461581
END:VEVENT
END:VCALENDAR
