BEGIN:VCALENDAR
VERSION:2.0
PRODID:icalendar-ruby
CALSCALE:GREGORIAN
METHOD:PUBLISH
BEGIN:VEVENT
DTSTAMP:20260422T215951Z
UID:44cfa45c-4e74-4692-9130-49f5d207970d
DTSTART;VALUE=DATE:20210603
DTEND;VALUE=DATE:20210603
DESCRIPTION:Pineview Park BMX
LOCATION:6540 Saukview Dr  St. Cloud MN 56303 USA
SUMMARY:Local Race Single
URL:/site/bmx_races/461696
END:VEVENT
END:VCALENDAR
