BEGIN:VCALENDAR
VERSION:2.0
PRODID:icalendar-ruby
CALSCALE:GREGORIAN
METHOD:PUBLISH
BEGIN:VEVENT
DTSTAMP:20260419T155524Z
UID:158318eb-67b3-48a2-9e5b-f87830f63a1b
DTSTART;VALUE=DATE:20211113
DTEND;VALUE=DATE:20211113
DESCRIPTION:Cape Cod BMX
LOCATION:65 Quaker Meetinghouse Rd   Sandwich MA 02563 USA
SUMMARY:Local Race Single
URL:/site/bmx_races/462249
END:VEVENT
END:VCALENDAR
