BEGIN:VCALENDAR
VERSION:2.0
PRODID:icalendar-ruby
CALSCALE:GREGORIAN
METHOD:PUBLISH
BEGIN:VEVENT
DTSTAMP:20260419T153128Z
UID:f9477d82-47ab-4e3f-803b-080b9a87b843
DTSTART;VALUE=DATE:20210623
DTEND;VALUE=DATE:20210623
DESCRIPTION:Burdette Park BMX
LOCATION:5821 Nurrenbern Rd  Evansville IN 47712 USA
SUMMARY:Local Race Single
URL:/site/bmx_races/462304
END:VEVENT
END:VCALENDAR
