BEGIN:VCALENDAR
VERSION:2.0
PRODID:icalendar-ruby
CALSCALE:GREGORIAN
METHOD:PUBLISH
BEGIN:VEVENT
DTSTAMP:20260423T202942Z
UID:8bb3b1e1-e0da-4dac-972b-f2a832f0104d
DTSTART;VALUE=DATE:20210723
DTEND;VALUE=DATE:20210723
DESCRIPTION:Burdette Park BMX
LOCATION:5821 Nurrenbern Rd  Evansville IN 47712 USA
SUMMARY:Local Race Single
URL:/site/bmx_races/462317
END:VEVENT
END:VCALENDAR
