BEGIN:VCALENDAR
VERSION:2.0
PRODID:icalendar-ruby
CALSCALE:GREGORIAN
METHOD:PUBLISH
BEGIN:VEVENT
DTSTAMP:20260422T180938Z
UID:b4377ac6-afc6-4713-a3ac-c8517b7e1189
DTSTART;VALUE=DATE:20210815
DTEND;VALUE=DATE:20210815
DESCRIPTION:Silver Dollar BMX
LOCATION:2352 Dr. Martin Luther King Jr. Parkway  Chico CA 95928 USA
SUMMARY:Local Race Single
URL:/site/bmx_races/462428
END:VEVENT
END:VCALENDAR
