BEGIN:VCALENDAR
VERSION:2.0
PRODID:icalendar-ruby
CALSCALE:GREGORIAN
METHOD:PUBLISH
BEGIN:VEVENT
DTSTAMP:20260424T060544Z
UID:7c0d282a-55ec-4009-9f9f-f89cdd9a55a5
DTSTART;VALUE=DATE:20210912
DTEND;VALUE=DATE:20210912
DESCRIPTION:Akron BMX
LOCATION:800 Derby Downs Drive  Akron OH 44306 USA
SUMMARY:State Final Triple
URL:/site/bmx_races/462694
END:VEVENT
END:VCALENDAR
