BEGIN:VCALENDAR
VERSION:2.0
PRODID:icalendar-ruby
CALSCALE:GREGORIAN
METHOD:PUBLISH
BEGIN:VEVENT
DTSTAMP:20260425T224306Z
UID:63d6f867-c955-43f2-97e1-bcf3fd2cd47f
DTSTART;VALUE=DATE:20210903
DTEND;VALUE=DATE:20210903
DESCRIPTION:Bonzai BMX
LOCATION:7201 Arlene Laman Dr  N. Little Rock AR 72118 USA
SUMMARY:Warnicke Double
URL:/site/bmx_races/462742
END:VEVENT
END:VCALENDAR
