BEGIN:VCALENDAR
VERSION:2.0
PRODID:icalendar-ruby
CALSCALE:GREGORIAN
METHOD:PUBLISH
BEGIN:VEVENT
DTSTAMP:20260422T165002Z
UID:b0b05a06-4fee-4020-a1e6-fcfade055bb6
DTSTART;VALUE=DATE:20210515
DTEND;VALUE=DATE:20210515
DESCRIPTION:Fountain City BMX
LOCATION:David D. Whetstone Jr. Sports Complex     County Road 4 W Prattvil
 le AL 36066 USA
SUMMARY:Local Race Single
URL:/site/bmx_races/462759
END:VEVENT
END:VCALENDAR
