BEGIN:VCALENDAR
VERSION:2.0
PRODID:icalendar-ruby
CALSCALE:GREGORIAN
METHOD:PUBLISH
BEGIN:VEVENT
DTSTAMP:20260425T224307Z
UID:cce90430-1af9-4de2-8f90-3ad9f1e7b5dc
DTSTART;VALUE=DATE:20210210
DTEND;VALUE=DATE:20210210
DESCRIPTION:St. Cloud BMX
LOCATION:2401 Peghorn Way  St. Cloud FL 34769 USA
SUMMARY:Local Race Single
URL:/site/bmx_races/462793
END:VEVENT
END:VCALENDAR
