BEGIN:VCALENDAR
VERSION:2.0
PRODID:icalendar-ruby
CALSCALE:GREGORIAN
METHOD:PUBLISH
BEGIN:VEVENT
DTSTAMP:20260424T082933Z
UID:69ddafc7-19e4-43aa-94da-627a737ac891
DTSTART;VALUE=DATE:20210821
DTEND;VALUE=DATE:20210821
DESCRIPTION:Falcon BMX
LOCATION:Falcon Field 200 Westfield Road Meriden CT 06450 USA
SUMMARY:Local Race Single
URL:/site/bmx_races/462951
END:VEVENT
END:VCALENDAR
