BEGIN:VCALENDAR
VERSION:2.0
PRODID:icalendar-ruby
CALSCALE:GREGORIAN
METHOD:PUBLISH
BEGIN:VEVENT
DTSTAMP:20260425T234659Z
UID:21a14307-0e85-47ce-a289-0dffc3fb6ad5
DTSTART;VALUE=DATE:20210828
DTEND;VALUE=DATE:20210828
DESCRIPTION:Rum River BMX
LOCATION:Isanti Parkway Northwest  Isanti MN 55040 USA
SUMMARY:Earned Double
URL:/site/bmx_races/463033
END:VEVENT
END:VCALENDAR
