BEGIN:VCALENDAR
VERSION:2.0
PRODID:icalendar-ruby
CALSCALE:GREGORIAN
METHOD:PUBLISH
BEGIN:VEVENT
DTSTAMP:20260425T232850Z
UID:c1271cb1-3c3c-4e8f-8f87-44aeef0f974f
DTSTART;VALUE=DATE:20210313
DTEND;VALUE=DATE:20210313
DESCRIPTION:Rum River BMX
LOCATION:Isanti Parkway Northwest  Isanti MN 55040 USA
SUMMARY:Local Race Single
URL:/site/bmx_races/463047
END:VEVENT
END:VCALENDAR
