BEGIN:VCALENDAR
VERSION:2.0
PRODID:icalendar-ruby
CALSCALE:GREGORIAN
METHOD:PUBLISH
BEGIN:VEVENT
DTSTAMP:20260423T135316Z
UID:6d1b48ef-19ca-4e1d-bf88-8e246272bce3
DTSTART;VALUE=DATE:20210603
DTEND;VALUE=DATE:20210603
DESCRIPTION:Southern Maryland BMX
LOCATION:26600 Budds Creek Rd  Mechanicsville MD 20659 USA
SUMMARY:Practice
URL:/site/bmx_races/463262
END:VEVENT
END:VCALENDAR
