BEGIN:VCALENDAR
VERSION:2.0
PRODID:icalendar-ruby
CALSCALE:GREGORIAN
METHOD:PUBLISH
BEGIN:VEVENT
DTSTAMP:20260419T220647Z
UID:b1d0e786-efab-4cbc-9db0-f6f607da09ef
DTSTART;VALUE=DATE:20210218
DTEND;VALUE=DATE:20210218
DESCRIPTION:Triple Creek BMX
LOCATION:12705 Balm Boyette Rd  Riverview FL 33579 USA
SUMMARY:Local Race Single
URL:/site/bmx_races/463445
END:VEVENT
END:VCALENDAR
