BEGIN:VCALENDAR
VERSION:2.0
PRODID:icalendar-ruby
CALSCALE:GREGORIAN
METHOD:PUBLISH
BEGIN:VEVENT
DTSTAMP:20260423T135904Z
UID:c774eafc-3768-402b-9a86-05c42fc886f7
DTSTART;VALUE=DATE:20210608
DTEND;VALUE=DATE:20210608
DESCRIPTION:Southern Maryland BMX
LOCATION:26600 Budds Creek Rd  Mechanicsville MD 20659 USA
SUMMARY:Local Race Single
URL:/site/bmx_races/463497
END:VEVENT
END:VCALENDAR
