BEGIN:VCALENDAR
VERSION:2.0
PRODID:icalendar-ruby
CALSCALE:GREGORIAN
METHOD:PUBLISH
BEGIN:VEVENT
DTSTAMP:20260423T065500Z
UID:9f361acf-0c84-4658-adb7-e81caa2a1340
DTSTART;VALUE=DATE:20211009
DTEND;VALUE=DATE:20211009
DESCRIPTION:Southern Maryland BMX
LOCATION:26600 Budds Creek Rd  Mechanicsville MD 20659 USA
SUMMARY:Local Race Single
URL:/site/bmx_races/463531
END:VEVENT
END:VCALENDAR
