BEGIN:VCALENDAR
VERSION:2.0
PRODID:icalendar-ruby
CALSCALE:GREGORIAN
METHOD:PUBLISH
BEGIN:VEVENT
DTSTAMP:20260423T222203Z
UID:1b31e06f-6e5c-4695-a53d-bc64531a7fcd
DTSTART;VALUE=DATE:20210507
DTEND;VALUE=DATE:20210507
DESCRIPTION:Molalla River BMX
LOCATION:920 Toliver Rd  Molalla OR 97038 USA
SUMMARY:Local Race Single
URL:/site/bmx_races/464125
END:VEVENT
END:VCALENDAR
