BEGIN:VCALENDAR
VERSION:2.0
PRODID:icalendar-ruby
CALSCALE:GREGORIAN
METHOD:PUBLISH
BEGIN:VEVENT
DTSTAMP:20260421T154254Z
UID:cfe00a37-7e73-4a84-bb7e-ba6395722c8b
DTSTART;VALUE=DATE:20210424
DTEND;VALUE=DATE:20210424
DESCRIPTION:Spokane BMX
LOCATION:5701 N Assembly St  Spokane WA 99205 USA
SUMMARY:Track Rental
URL:/site/bmx_races/464549
END:VEVENT
END:VCALENDAR
