BEGIN:VCALENDAR
VERSION:2.0
PRODID:icalendar-ruby
CALSCALE:GREGORIAN
METHOD:PUBLISH
BEGIN:VEVENT
DTSTAMP:20260423T080728Z
UID:4e62a089-9a50-44bf-810c-9a38a79334d6
DTSTART;VALUE=DATE:20210317
DTEND;VALUE=DATE:20210317
DESCRIPTION:Bend BMX
LOCATION:21690 Neff Road  Bend OR 97701 USA
SUMMARY:Local Race Single
URL:/site/bmx_races/464611
END:VEVENT
END:VCALENDAR
