BEGIN:VCALENDAR
VERSION:2.0
PRODID:icalendar-ruby
CALSCALE:GREGORIAN
METHOD:PUBLISH
BEGIN:VEVENT
DTSTAMP:20260423T045120Z
UID:4ce192a0-2a9d-4afb-b98b-f356096fb343
DTSTART;VALUE=DATE:20210829
DTEND;VALUE=DATE:20210829
DESCRIPTION:Bend BMX
LOCATION:21690 Neff Road  Bend OR 97701 USA
SUMMARY:Local Race Single
URL:/site/bmx_races/464635
END:VEVENT
END:VCALENDAR
