BEGIN:VCALENDAR
VERSION:2.0
PRODID:icalendar-ruby
CALSCALE:GREGORIAN
METHOD:PUBLISH
BEGIN:VEVENT
DTSTAMP:20260423T162858Z
UID:4e2fa147-0294-4cc3-8bd9-33faba82d594
DTSTART;VALUE=DATE:20210531
DTEND;VALUE=DATE:20210531
DESCRIPTION:Derby City BMX
LOCATION:3000 Freys Hill Rd  Louisville KY 40241 USA
SUMMARY:Practice
URL:/site/bmx_races/465224
END:VEVENT
END:VCALENDAR
