BEGIN:VCALENDAR
VERSION:2.0
PRODID:icalendar-ruby
CALSCALE:GREGORIAN
METHOD:PUBLISH
BEGIN:VEVENT
DTSTAMP:20260423T055353Z
UID:67e3e622-3f04-4893-837f-5201b3a15709
DTSTART;VALUE=DATE:20210417
DTEND;VALUE=DATE:20210417
DESCRIPTION:Marysville BMX
LOCATION:618 N Main St  Marysville OH 43040 USA
SUMMARY:Local Race Single
URL:/site/bmx_races/465296
END:VEVENT
END:VCALENDAR
