BEGIN:VCALENDAR
VERSION:2.0
PRODID:icalendar-ruby
CALSCALE:GREGORIAN
METHOD:PUBLISH
BEGIN:VEVENT
DTSTAMP:20260420T112957Z
UID:b74db298-abe1-4544-b667-fea3405b8381
DTSTART;VALUE=DATE:20210707
DTEND;VALUE=DATE:20210707
DESCRIPTION:WALLA WALLA BMX
LOCATION:Fort Walla Walla Park   1898 Dalles Military Rd Walla Walla WA 993
 62 USA
SUMMARY:Local Race Single
URL:/site/bmx_races/466360
END:VEVENT
END:VCALENDAR
