BEGIN:VCALENDAR
VERSION:2.0
PRODID:icalendar-ruby
CALSCALE:GREGORIAN
METHOD:PUBLISH
BEGIN:VEVENT
DTSTAMP:20260419T190512Z
UID:5e42bdfd-cd63-430a-8795-f594e3dc7805
DTSTART;VALUE=DATE:20210910
DTEND;VALUE=DATE:20210910
DESCRIPTION:Rad Canyon BMX
LOCATION:5200 W 9800 S  West Jordan UT 84081 USA
SUMMARY:State Pre-Race Double
URL:/site/bmx_races/466505
END:VEVENT
END:VCALENDAR
