BEGIN:VCALENDAR
VERSION:2.0
PRODID:icalendar-ruby
CALSCALE:GREGORIAN
METHOD:PUBLISH
BEGIN:VEVENT
DTSTAMP:20260419T190425Z
UID:cb8294f4-86d2-42c3-adb0-86e73838fda0
DTSTART;VALUE=DATE:20210322
DTEND;VALUE=DATE:20210322
DESCRIPTION:Yuma BMX
LOCATION:3067 S Pacific Ave  Yuma AZ 85364 USA
SUMMARY:Local Race Single
URL:/site/bmx_races/466962
END:VEVENT
END:VCALENDAR
