BEGIN:VCALENDAR
VERSION:2.0
PRODID:icalendar-ruby
CALSCALE:GREGORIAN
METHOD:PUBLISH
BEGIN:VEVENT
DTSTAMP:20260423T145509Z
UID:581c84c2-a689-4ff9-a16d-efdd0a21f102
DTSTART;VALUE=DATE:20210518
DTEND;VALUE=DATE:20210518
DESCRIPTION:Oceanside BMX
LOCATION:354 Park Rd  Qualicum Beach BC V9Y3R5 CAN
SUMMARY:Local Race Single
URL:/site/bmx_races/467358
END:VEVENT
END:VCALENDAR
