BEGIN:VCALENDAR
VERSION:2.0
PRODID:icalendar-ruby
CALSCALE:GREGORIAN
METHOD:PUBLISH
BEGIN:VEVENT
DTSTAMP:20260421T203832Z
UID:1cafed8c-9d84-4eb2-b437-fab0ce302fbb
DTSTART;VALUE=DATE:20210525
DTEND;VALUE=DATE:20210525
DESCRIPTION:Ed Fountain Park BMX Raceway
LOCATION:1400 N Decatur Blvd  Las Vegas NV 89108 USA
SUMMARY:Practice
URL:/site/bmx_races/467408
END:VEVENT
END:VCALENDAR
