BEGIN:VCALENDAR
VERSION:2.0
PRODID:icalendar-ruby
CALSCALE:GREGORIAN
METHOD:PUBLISH
BEGIN:VEVENT
DTSTAMP:20260421T170716Z
UID:3c682fbd-a16c-4234-8871-85f53218ebc1
DTSTART;VALUE=DATE:20210706
DTEND;VALUE=DATE:20210706
DESCRIPTION:Ed Fountain Park BMX Raceway
LOCATION:1400 N Decatur Blvd  Las Vegas NV 89108 USA
SUMMARY:Practice
URL:/site/bmx_races/467419
END:VEVENT
END:VCALENDAR
